BEGIN:VCALENDAR
METHOD:PUBLISH
PRODID:-//LogicWorks GmbH//NONSGML Contentory//EN
VERSION:2.0
CALSCALE:GREGORIAN
X-MS-OLK-FORCEINSPECTOROPEN:TRUE
BEGIN:VEVENT
DTSTAMP:20260423T120809Z
SUMMARY:13th European Urban Resilience Forum
DESCRIPTION:Stadtverantwortliche und Fachleute diskutieren in Guimarães über integr
 ierte Lösungen für Klimawandel und urbane Resilienz. 
LOCATION:Guimarães\, Portugal
CREATED:20260325T080724
LAST-MODIFIED:20260423T062301
DTSTART;VALUE=DATE:20250617T000000
DTEND;VALUE=DATE:20250619T235959
UID:sn_3769_date_0@logic-works.net
END:VEVENT
END:VCALENDAR