BEGIN:VCALENDAR
METHOD:PUBLISH
PRODID:-//LogicWorks GmbH//NONSGML Contentory//EN
VERSION:2.0
CALSCALE:GREGORIAN
X-MS-OLK-FORCEINSPECTOROPEN:TRUE
BEGIN:VEVENT
DTSTAMP:20260420T065353Z
SUMMARY:15. International Conference on Climate Change: Impacts & Responses
DESCRIPTION:Die „15. Internationale Konferenz zum Klimawandel: Auswirkungen und Reak
 tionen“ findet vom 20. bis 21. April 2023 mit dem speziellen Fokus „Re
 aktion auf den Klimanotstand: Skalierbare Lösungen für den Schnittpunkt 
 von Klima und Natur“ statt. Eine Teilnahme ist vor Ort in Vancouver\, Ka
 nada oder online möglich.
LOCATION:Vancouver\, Kanada und Online
CREATED:20230123T125041
LAST-MODIFIED:20230210T090647
DTSTART;VALUE=DATE:20230420T000000
DTEND;VALUE=DATE:20230421T235959
UID:sn_1500_date_0@logic-works.net
END:VEVENT
END:VCALENDAR