BEGIN:VCALENDAR
METHOD:PUBLISH
PRODID:-//LogicWorks GmbH//NONSGML Contentory//EN
VERSION:2.0
CALSCALE:GREGORIAN
X-MS-OLK-FORCEINSPECTOROPEN:TRUE
BEGIN:VEVENT
DTSTAMP:20260422T211047Z
SUMMARY:18. SET-Plan Konferenz am 14. und 15. November 2024 in Budapest
DESCRIPTION:Die 18. SET-Plan-Konferenz wird in Budapest (Ungarn) vom 14. -15. November
  2024 stattfinden. Die Konferenz wird unter der ungarischen EU-Ratspräsid
 entschaft in Zusammenarbeit mit der Kommission organisiert.
LOCATION:Budapest (Ungarn)
CREATED:20241015T091644
LAST-MODIFIED:20241015T092730
DTSTART;VALUE=DATE:20241114T090000
DTEND;VALUE=DATE:20241115T170000
UID:sn_2654_date_0@logic-works.net
END:VEVENT
END:VCALENDAR