BEGIN:VCALENDAR
METHOD:PUBLISH
PRODID:-//LogicWorks GmbH//NONSGML Contentory//EN
VERSION:2.0
CALSCALE:GREGORIAN
X-MS-OLK-FORCEINSPECTOROPEN:TRUE
BEGIN:VEVENT
DTSTAMP:20260421T165557Z
SUMMARY:Zwei-Faktor-Authentifizierung im Funding & Tenders Portal
DESCRIPTION:Die Europäische Kommission führt im Funding & Tenders Portal schrittweis
 e die verpflichtende Nutzung der Zwei-Faktor-Authentifizierung (2FA) ein. 
 Ziel ist es\, die Sicherheit der Nutzerkonten weiter zu erhöhen und den Z
 ugang zum Portal langfristig abzusichern.
LOCATION:Online
CREATED:20260421T085030
LAST-MODIFIED:20260421T105651
DTSTART;VALUE=DATE:20260513T100000
DTEND;VALUE=DATE:20260513T113000
UID:sn_3827_date_0@logic-works.net
END:VEVENT
END:VCALENDAR