BEGIN:VCALENDAR
METHOD:PUBLISH
PRODID:-//LogicWorks GmbH//NONSGML Contentory//EN
VERSION:2.0
CALSCALE:GREGORIAN
X-MS-OLK-FORCEINSPECTOROPEN:TRUE
BEGIN:VEVENT
DTSTAMP:20260421T105623Z
SUMMARY:8. International Conference on Climate Change 2024
DESCRIPTION:Die achte Ausgabe der International Conference on Climate Change (ICCC) fi
 ndet vom 8. bis 9. Februar 2024 in Colombo\, Sri Lanka und online statt. D
 ie Konferenz bringt Vertreterinnen und Vertreter aus Forschung und Innovat
 ion aus der ganzen Welt zusammen und bietet eine globale Plattform zur Dis
 kussion neuer Fortschritte und Forschungsergebnisse auf dem Gebiet des Kli
 mawandels.
LOCATION:Colombo\, Sri Lanka und Online
CREATED:20230510T112344
LAST-MODIFIED:20240124T111117
DTSTART;VALUE=DATE:20240208T000000
DTEND;VALUE=DATE:20240209T235959
UID:sn_1792_date_0@logic-works.net
END:VEVENT
END:VCALENDAR