BEGIN:VCALENDAR
METHOD:PUBLISH
PRODID:-//LogicWorks GmbH//NONSGML Contentory//EN
VERSION:2.0
CALSCALE:GREGORIAN
X-MS-OLK-FORCEINSPECTOROPEN:TRUE
BEGIN:VEVENT
DTSTAMP:20260420T062834Z
SUMMARY:After Work Info Session â€“ WasserstofffĂ¶rderung in Europa
DESCRIPTION:Die NKS KEM bietet bei diesem Termin einen offenen Austausch zu den europĂ
 ¤ischen FĂ¶rdermĂ¶glichkeiten im Bereich Wasserstoff an.
LOCATION:Online
CREATED:20240426T132636
LAST-MODIFIED:20240426T160348
DTSTART;VALUE=DATE:20240516T163000
DTEND;VALUE=DATE:20240516T171500
UID:sn_2430_date_0@logic-works.net
END:VEVENT
END:VCALENDAR