BEGIN:VCALENDAR
METHOD:PUBLISH
PRODID:-//LogicWorks GmbH//NONSGML Contentory//EN
VERSION:2.0
CALSCALE:GREGORIAN
X-MS-OLK-FORCEINSPECTOROPEN:TRUE
BEGIN:VEVENT
DTSTAMP:20260421T105514Z
SUMMARY:BEPA-Webinar: „Upscaling Innovation across the European Battery Value Ch
 ain“
DESCRIPTION:Die Batteries European Partnership Association (BEPA) stellt am 18.04.2024
  (15:00 – 16:15 Uhr) ihre nächste Veranstaltung mit dem Titel „Upsca
 ling Innovation across the European Battery Value Chain“ vor. Beleuchtet
  wird die Frage\, wie sich die Produktion einer neuen Batterietechnologie 
 in einer Wertschöpfungskette\, in der alle Teile voneinander abhängig si
 nd\, am besten steigern lässt.
LOCATION:Online
CREATED:20240318T123041
LAST-MODIFIED:20240319T081639
DTSTART;VALUE=DATE:20240418T150000
DTEND;VALUE=DATE:20240418T161500
UID:sn_2354_date_0@logic-works.net
END:VEVENT
END:VCALENDAR