BEGIN:VCALENDAR
METHOD:PUBLISH
PRODID:-//LogicWorks GmbH//NONSGML Contentory//EN
VERSION:2.0
CALSCALE:GREGORIAN
X-MS-OLK-FORCEINSPECTOROPEN:TRUE
BEGIN:VEVENT
DTSTAMP:20260421T110623Z
SUMMARY:Battery Innovation Days 2025
DESCRIPTION:Die diesjährigen Battery Innovation Days werden von der Steirischen Wirts
 chaftsförderungsgesellschaft (SFG) ausgerichtet und finden am 2. und 3. D
 ezember 2025 in Graz (Österreich) und online statt.
LOCATION:Graz und online
CREATED:20250630T113258
LAST-MODIFIED:20250805T111304
DTSTART;VALUE=DATE:20251202T100000
DTEND;VALUE=DATE:20251203T170000
UID:sn_3149_date_0@logic-works.net
END:VEVENT
END:VCALENDAR