BEGIN:VCALENDAR
METHOD:PUBLISH
PRODID:-//LogicWorks GmbH//NONSGML Contentory//EN
VERSION:2.0
CALSCALE:GREGORIAN
X-MS-OLK-FORCEINSPECTOROPEN:TRUE
BEGIN:VEVENT
DTSTAMP:20260421T165947Z
SUMMARY:Brokerage Event zu Clean Industrial Deal Calls 2026
DESCRIPTION:Am 8. Juni 2026 findet in Brüssel eine Networking- und Brokerage-Veransta
 ltung zu den Horizon Europe Clean Industrial Deal Calls statt. Nutzen Sie 
 die Gelegenheit zur Partnersuche und Projektanbahnung.
LOCATION:BSP/NCBR Büro
CREATED:20260421T092249
LAST-MODIFIED:20260421T092718
DTSTART;VALUE=DATE:20260608T140000
DTEND;VALUE=DATE:20260608T190000
UID:sn_3833_date_0@logic-works.net
END:VEVENT
END:VCALENDAR