BEGIN:VCALENDAR
METHOD:PUBLISH
PRODID:-//LogicWorks GmbH//NONSGML Contentory//EN
VERSION:2.0
CALSCALE:GREGORIAN
X-MS-OLK-FORCEINSPECTOROPEN:TRUE
BEGIN:VEVENT
DTSTAMP:20260425T000823Z
SUMMARY:Brokerage Event für Cluster 6 in Horizont Europa
DESCRIPTION:Wer sich für Klima- oder Städtethemen interessiert\, sollte sich auch da
 s Arbeitsprogramm Cluster 6 anschauen\; dort finden sich ebenfalls Ausschr
 eibungen zu diesen großen Querschnittsthemen in Horizont Europa. Und\, um
  Sie bei der Suche nach geeigneten Konsortialpartnern für die Ausschreibu
 ngen im neuen Arbeitsprogramm 2023 für Cluster 6 von Horizont Europa zu u
 nterstützen\, organisiert das Netzwerkprojekt der Nationalen Kontaktstell
 en des Clusters 6\, CARE4BIO\, ein eintägiges Brokerage Event zu dem Sie 
 herzlich eingeladen sind.
LOCATION:online
CREATED:20221202T155250
LAST-MODIFIED:20221202T172323
DTSTART;VALUE=DATE:20221219T000000
DTEND;VALUE=DATE:20221219T235959
UID:sn_1327_date_0@logic-works.net
END:VEVENT
END:VCALENDAR