BEGIN:VCALENDAR
METHOD:PUBLISH
PRODID:-//LogicWorks GmbH//NONSGML Contentory//EN
VERSION:2.0
CALSCALE:GREGORIAN
X-MS-OLK-FORCEINSPECTOROPEN:TRUE
BEGIN:VEVENT
DTSTAMP:20260420T090528Z
SUMMARY:Horizont Europa - Cluster 5: Brokerage Event für die Förderaufrufe 2022
DESCRIPTION:Das europäische Netzwerk der Nationalen Kontaktstellen\, Bridge2HE\, läd
 t Sie zu diesem virtuellen Brokerage Event ein. Hier können Interessierte
  zusammenkommen\, die eine Förderung beantragen und als Partner Projektid
 een unterstützen möchten.
LOCATION:Online
CREATED:20220111T160934
LAST-MODIFIED:20220111T161156
DTSTART;VALUE=DATE:20220204T000000
DTEND;VALUE=DATE:20220204T235959
UID:sn_557_date_0@logic-works.net
END:VEVENT
END:VCALENDAR