BEGIN:VCALENDAR
METHOD:PUBLISH
PRODID:-//LogicWorks GmbH//NONSGML Contentory//EN
VERSION:2.0
CALSCALE:GREGORIAN
X-MS-OLK-FORCEINSPECTOROPEN:TRUE
BEGIN:VEVENT
DTSTAMP:20260419T171645Z
SUMMARY:MIP4Adapt: Addressing loss and damage
DESCRIPTION:In dieser Veranstaltung treten Fachleute in den Dialog\, um mit Ihnen prak
 tische Strategien gegen klimabedingte Schäden zu diskutieren.
LOCATION:online
CREATED:20250904T071116
LAST-MODIFIED:20250904T120208
DTSTART;VALUE=DATE:20251209T150000
DTEND;VALUE=DATE:20251209T163000
UID:sn_3313_date_0@logic-works.net
END:VEVENT
END:VCALENDAR