BEGIN:VCALENDAR
METHOD:PUBLISH
PRODID:-//LogicWorks GmbH//NONSGML Contentory//EN
VERSION:2.0
CALSCALE:GREGORIAN
X-MS-OLK-FORCEINSPECTOROPEN:TRUE
BEGIN:VEVENT
DTSTAMP:20260421T211703Z
SUMMARY:Erstes European Mission Forum: "Making Missions Work"
DESCRIPTION:Die TRAnsnational cooperation on the MIssions approach (TRAMI) veranstalte
 t am 25. Januar 2023 das erste European Mission Forum (EMiF) unter dem Lei
 tsatz „Making Missions Work“. In der Online-Veranstaltung lernen Sie d
 as European Mission Network (EMiN) kennen und haben Möglichkeiten zum gem
 einsamen Austausch.
LOCATION:online
CREATED:20221207T094913
LAST-MODIFIED:20221214T082103
DTSTART;VALUE=DATE:20230125T093000
DTEND;VALUE=DATE:20230125T163000
UID:sn_1341_date_0@logic-works.net
END:VEVENT
END:VCALENDAR