BEGIN:VCALENDAR
METHOD:PUBLISH
PRODID:-//LogicWorks GmbH//NONSGML Contentory//EN
VERSION:2.0
CALSCALE:GREGORIAN
X-MS-OLK-FORCEINSPECTOROPEN:TRUE
BEGIN:VEVENT
DTSTAMP:20260424T215324Z
SUMMARY:European Green Week 2024
DESCRIPTION:Die von der Generaldirektion Umwelt der EU-Kommission veranstaltete EU Gre
 en Week bietet Ihnen dieses Jahr die Möglichkeit\, mit führenden Persone
 n und Interessensgruppen aus dem Bereich Umweltschutz über Themen der Was
 serresilienz zu diskutieren. Die Konferenz findet am 29. und 30. Mai in Br
 üssel statt.
LOCATION:Brüssel\, Belgien
CREATED:20240124T073856
LAST-MODIFIED:20240124T111915
DTSTART;VALUE=DATE:20240529T000000
DTEND;VALUE=DATE:20240530T235959
UID:sn_2283_date_0@logic-works.net
END:VEVENT
END:VCALENDAR