BEGIN:VCALENDAR
METHOD:PUBLISH
PRODID:-//LogicWorks GmbH//NONSGML Contentory//EN
VERSION:2.0
CALSCALE:GREGORIAN
X-MS-OLK-FORCEINSPECTOROPEN:TRUE
BEGIN:VEVENT
DTSTAMP:20260421T110651Z
SUMMARY:EUPI-PV Konferenz 2026
DESCRIPTION:Die EUPI-PV Konferenz 2026 bringt führende Akteure aus Forschung\, Indust
 rie und Politik zusammen\, um aktuelle Entwicklungen und Perspektiven der 
 Photovoltaik in Europa zu diskutieren.
LOCATION:Brüssel
CREATED:20260414T095746
LAST-MODIFIED:20260414T100040
DTSTART;VALUE=DATE:20260527T093000
DTEND;VALUE=DATE:20260527T170000
UID:sn_3794_date_0@logic-works.net
END:VEVENT
END:VCALENDAR