BEGIN:VCALENDAR
METHOD:PUBLISH
PRODID:-//LogicWorks GmbH//NONSGML Contentory//EN
VERSION:2.0
CALSCALE:GREGORIAN
X-MS-OLK-FORCEINSPECTOROPEN:TRUE
BEGIN:VEVENT
DTSTAMP:20260421T110133Z
SUMMARY:Fit für Ihren Antrag: Antragsvorbereitung - Horizon Dashboard
DESCRIPTION:Die Nationale Kontaktstelle Bioökonomie und Umwelt (NKS B&U) veranstaltet
  vom 7. bis zum 29. Juni 2022 (jeweils von 10:00 Uhr bis maximal 11:30 Uhr
 ) eine Webinarreihe für Interessierte\, die planen\, einen Antrag im Clus
 ter 6 oder in den Missionen einzureichen.
LOCATION:Online
CREATED:20220523T092926
LAST-MODIFIED:20220525T152557
DTSTART;VALUE=DATE:20220607T100000
DTEND;VALUE=DATE:20220607T110000
UID:sn_872_date_0@logic-works.net
END:VEVENT
END:VCALENDAR