BEGIN:VCALENDAR
METHOD:PUBLISH
PRODID:-//LogicWorks GmbH//NONSGML Contentory//EN
VERSION:2.0
CALSCALE:GREGORIAN
X-MS-OLK-FORCEINSPECTOROPEN:TRUE
BEGIN:VEVENT
DTSTAMP:20260422T010305Z
SUMMARY:Die EU-Missionen in Horizont Europa â€“ EinfÃ¼hrungsveranstaltung zu Ihren
  FÃ¶rdermÃ¶glichkeiten 2027
DESCRIPTION:Die EU-Kommission hat im Dezember 2025 ihre neuen Ausschreibungen fÃ¼r die
  fÃ¼nf europÃ¤ischen Missionen zu den Themen Klimaanpassung\, Krebs\, GewÃ
 ¤sser\, StÃ¤dte und BÃ¶den verÃ¶ffentlicht. Dazu gehÃ¶ren nicht nur die Au
 sschreibungen fÃ¼r 2026\, sondern auch bereitsÂ die Ausschreibungen fÃ¼r 2
 027. In mehreren thematischen Online-Informationsveranstaltungen prÃ¤senti
 eren Ihnen die beratenden Nationalen Kontaktstellen die zu erwartenden The
 men fÃ¼r 2027.
LOCATION:Online
CREATED:20260121T130653
LAST-MODIFIED:20260121T151126
DTSTART;VALUE=DATE:20260304T140000
DTEND;VALUE=DATE:20260304T153000
UID:sn_3639_date_0@logic-works.net
END:VEVENT
END:VCALENDAR