BEGIN:VCALENDAR
METHOD:PUBLISH
PRODID:-//LogicWorks GmbH//NONSGML Contentory//EN
VERSION:2.0
CALSCALE:GREGORIAN
X-MS-OLK-FORCEINSPECTOROPEN:TRUE
BEGIN:VEVENT
DTSTAMP:20260422T013530Z
SUMMARY:Die EU-Missionen in Horizont Europa â€“ Ihre FÃ¶rdermÃ¶glichkeiten in der 
 Boden-Mission 2027
DESCRIPTION:Die EU-Kommission hat im Dezember 2025 ihre neuen Ausschreibungen fÃ¼r die
  fÃ¼nf europÃ¤ischen Missionen zu den Themen Klimaanpassung\, Krebs\, GewÃ
 ¤sser\, StÃ¤dte und BÃ¶den verÃ¶ffentlicht. Dazu gehÃ¶ren nicht nur die Au
 sschreibungen fÃ¼r 2026\, sondern auch bereits die Themen fÃ¼r 2027.Â Die 
 EU-Mission â€žA Soil Deal for Europeâ€œ wird mit ihrem Arbeitsprogramm wei
 ter auf das Erreichen der vielfÃ¤ltigen Missionsziele hinarbeiten. Zu dies
 em Arbeitsprogramm informiert Sie heute die NKS BioÃ¶konomie und Umwelt. D
 er Schwerpunkt der Veranstaltung liegt dabei auf den konkreten FÃ¶rdermÃ¶g
 lichkeiten im Rahmen des Arbeitsprogramms 2026.
LOCATION:Online
CREATED:20260121T131900
LAST-MODIFIED:20260121T135016
DTSTART;VALUE=DATE:20260316T100000
DTEND;VALUE=DATE:20260316T110000
UID:sn_3651_date_0@logic-works.net
END:VEVENT
END:VCALENDAR