BEGIN:VCALENDAR
METHOD:PUBLISH
PRODID:-//LogicWorks GmbH//NONSGML Contentory//EN
VERSION:2.0
CALSCALE:GREGORIAN
X-MS-OLK-FORCEINSPECTOROPEN:TRUE
BEGIN:VEVENT
DTSTAMP:20260422T004529Z
SUMMARY:Die EU-Missionen in Horizont Europa â€“ Ihre FÃ¶rdermÃ¶glichkeiten in der 
 Klima-Mission 2027
DESCRIPTION:Die EU-Kommission hat im Dezember 2025 ihre neuen Ausschreibungen fÃ¼r die
  fÃ¼nf europÃ¤ischen Missionen zu den Themen Klimaanpassung\, Krebs\, GewÃ
 ¤sser\, StÃ¤dte und BÃ¶den verÃ¶ffentlicht. Dazu gehÃ¶ren nicht nur die Au
 sschreibungen fÃ¼r 2026\, sondern auch bereits die Themen fÃ¼r 2027.Â Was 
 sollten Sie als Region\, als Forschende oder als Innovatoren Ã¼ber die Kli
 ma-Mission wissen? Wie kÃ¶nnen Sie sich beteiligen? Diese Informationen be
 kommen Sie in dieser Online-Veranstaltung von der NKS KEM. Ein wichtiger S
 chwerpunkt liegt dabei auch auf den zu erwartenden Themen fÃ¼r 2027.
LOCATION:Online
CREATED:20260121T131309
LAST-MODIFIED:20260121T150740
DTSTART;VALUE=DATE:20260310T100000
DTEND;VALUE=DATE:20260310T110000
UID:sn_3642_date_0@logic-works.net
END:VEVENT
END:VCALENDAR