BEGIN:VCALENDAR
METHOD:PUBLISH
PRODID:-//LogicWorks GmbH//NONSGML Contentory//EN
VERSION:2.0
CALSCALE:GREGORIAN
X-MS-OLK-FORCEINSPECTOROPEN:TRUE
BEGIN:VEVENT
DTSTAMP:20260422T043042Z
SUMMARY:Die EU-Missionen in Horizont Europa â€“ Ihre FÃ¶rdermÃ¶glichkeiten in der 
 StÃ¤dte-Mission 2027
DESCRIPTION:Die EU-Kommission hat im Dezember 2025 ihre neuen Ausschreibungen fÃ¼r die
  fÃ¼nf europÃ¤ischen Missionen zu den Themen Klimaanpassung\, Krebs\, GewÃ
 ¤sser\, StÃ¤dte und BÃ¶den verÃ¶ffentlicht. Dazu gehÃ¶ren nicht nur die Au
 sschreibungen fÃ¼r 2026\, sondern auch bereits die Themen fÃ¼r 2027.Â Welc
 he Ziele hat die Mission â€ž100 Climate-Neutral and Smart Cities by 2030â€
 œ? Wie werden diese Ziele durch Forschung und Innovation im Rahmen von Hor
 izont Europa unterstÃ¼tzt? Dazu informiert Sie heute die Nationale Kontakt
 stelle Klima\, Energie\, MobilitÃ¤t (NKS KEM).
LOCATION:Online
CREATED:20260121T131644
LAST-MODIFIED:20260121T150821
DTSTART;VALUE=DATE:20260312T110000
DTEND;VALUE=DATE:20260312T120000
UID:sn_3645_date_0@logic-works.net
END:VEVENT
END:VCALENDAR