BEGIN:VCALENDAR
METHOD:PUBLISH
PRODID:-//LogicWorks GmbH//NONSGML Contentory//EN
VERSION:2.0
CALSCALE:GREGORIAN
X-MS-OLK-FORCEINSPECTOROPEN:TRUE
BEGIN:VEVENT
DTSTAMP:20260420T043832Z
SUMMARY:Info-Veranstaltung „What next? – Ihre Fördermöglichkeiten in Destina
 tion 3 von Cluster 5“
DESCRIPTION:Das zweite Quartal 2025 wird spannend\, denn wir erwarten die Finalisierun
 g und Veröffentlichung der nächsten Arbeitsprogramme des EU-Förderprogr
 amms Horizont Europa. Was sollten Sie über die Destination 3 „Sustainab
 le\, secure and competitive energy supply“ wissen? Wir geben Ihnen in un
 serer Online-Veranstaltung darüber hinaus einen ersten Einblick in die zu
  erwartenden Themen für 2025.
LOCATION:Online
CREATED:20241210T154150
LAST-MODIFIED:20241210T160304
DTSTART;VALUE=DATE:20250123T100000
DTEND;VALUE=DATE:20250123T120000
UID:sn_2757_date_0@logic-works.net
END:VEVENT
END:VCALENDAR