BEGIN:VCALENDAR
METHOD:PUBLISH
PRODID:-//LogicWorks GmbH//NONSGML Contentory//EN
VERSION:2.0
CALSCALE:GREGORIAN
X-MS-OLK-FORCEINSPECTOROPEN:TRUE
BEGIN:VEVENT
DTSTAMP:20260423T115728Z
SUMMARY:Info-Veranstaltung „What next? – Ihre Fördermöglichkeiten in Destina
 tion 6 von Cluster 5“
DESCRIPTION:Das zweite Quartal 2025 wird spannend\, denn wir erwarten die Finalisierun
 g und Veröffentlichung der nächsten Arbeitsprogramme des EU-Förderprogr
 amms Horizont Europa. Was sollten Sie über die Destination 6 „Safe resi
 lient transport and smart mobility services for passengers and goods“ wi
 ssen? Wir geben Ihnen in unserer Online-Veranstaltung darüber hinaus eine
 n ersten Einblick in die zu erwartenden Themen für 2025.
LOCATION:Online
CREATED:20241210T153444
LAST-MODIFIED:20241210T172452
DTSTART;VALUE=DATE:20250123T133000
DTEND;VALUE=DATE:20250123T153000
UID:sn_2755_date_0@logic-works.net
END:VEVENT
END:VCALENDAR