BEGIN:VCALENDAR
METHOD:PUBLISH
PRODID:-//LogicWorks GmbH//NONSGML Contentory//EN
VERSION:2.0
CALSCALE:GREGORIAN
X-MS-OLK-FORCEINSPECTOROPEN:TRUE
BEGIN:VEVENT
DTSTAMP:20260420T065354Z
SUMMARY:International Mobility Summit
DESCRIPTION:Der 8. International Mobility Summit findet vom 10. bis 11. Oktober 2023 i
 n Kopenhagen (DK) statt.
LOCATION:Kopenhagen (DK)
CREATED:20230301T224812
LAST-MODIFIED:20230302T074620
DTSTART;VALUE=DATE:20231010T000000
DTEND;VALUE=DATE:20231011T235959
UID:sn_1618_date_0@logic-works.net
END:VEVENT
END:VCALENDAR