BEGIN:VCALENDAR
METHOD:PUBLISH
PRODID:-//LogicWorks GmbH//NONSGML Contentory//EN
VERSION:2.0
CALSCALE:GREGORIAN
X-MS-OLK-FORCEINSPECTOROPEN:TRUE
BEGIN:VEVENT
DTSTAMP:20260420T125418Z
SUMMARY:Living Planet Symposium 2022
DESCRIPTION:Die größte Erdbeobachtungskonferenz der Welt\, das Living Planet Symposi
 um der ESA findet vom 23. bis 27. Mai 2022 im World Conference Center in B
 onn\, Deutschland\, statt.\r\nDas alle drei Jahre stattfindende Symposium 
 spiegelt die rasant wachsende Bedeutung und das große Interesse daran „
 den Puls unseres Planeten aus dem All zu fühlen“.
LOCATION:World Conference Center Bonn (WorldCCBonn)
CREATED:20211026T140007
LAST-MODIFIED:20211028T142058
DTSTART;VALUE=DATE:20220523T000000
DTEND;VALUE=DATE:20220527T235959
UID:sn_434_date_0@logic-works.net
END:VEVENT
END:VCALENDAR