BEGIN:VCALENDAR
METHOD:PUBLISH
PRODID:-//LogicWorks GmbH//NONSGML Contentory//EN
VERSION:2.0
CALSCALE:GREGORIAN
X-MS-OLK-FORCEINSPECTOROPEN:TRUE
BEGIN:VEVENT
DTSTAMP:20260421T110444Z
SUMMARY:NetZeroCities: Informationsveranstaltung zum Call for Pilot Cities
DESCRIPTION:Das EU-Projekt NetZeroCities (NZC) befasst sich mit der Transformation eur
 opäischer Städte hin zur Klimaneutralität. Es wird am 5. September 2022
  seinen "Call for Pilot Cities" veröffentlichen. In der Informationsveran
 staltung am 5. September 2022 erhalten Sie technische Informationen zur Er
 öffnung des Calls.
LOCATION:Online
CREATED:20220628T130857
LAST-MODIFIED:20220628T181004
DTSTART;VALUE=DATE:20220905T000000
DTEND;VALUE=DATE:20220905T235959
UID:sn_916_date_0@logic-works.net
END:VEVENT
END:VCALENDAR