BEGIN:VCALENDAR
METHOD:PUBLISH
PRODID:-//LogicWorks GmbH//NONSGML Contentory//EN
VERSION:2.0
CALSCALE:GREGORIAN
X-MS-OLK-FORCEINSPECTOROPEN:TRUE
BEGIN:VEVENT
DTSTAMP:20260422T105553Z
SUMMARY:RP Aktiv – Horizont Europa für Antragstellende
DESCRIPTION:Diese Veranstaltung des EU-Büros des BMBF richtet sich an alle\, die scho
 n mit dem Rahmenprogramm Horizont Europa vertraut sind und nun aktiv die A
 ntragstellung ihres Verbundprojekts vorbereiten wollen.
LOCATION:Online
CREATED:20241007T080313
LAST-MODIFIED:20241210T182942
DTSTART;VALUE=DATE:20241212T093000
DTEND;VALUE=DATE:20241212T150000
UID:sn_2636_date_0@logic-works.net
END:VEVENT
END:VCALENDAR