BEGIN:VCALENDAR
METHOD:PUBLISH
PRODID:-//LogicWorks GmbH//NONSGML Contentory//EN
VERSION:2.0
CALSCALE:GREGORIAN
X-MS-OLK-FORCEINSPECTOROPEN:TRUE
BEGIN:VEVENT
DTSTAMP:20260423T120542Z
SUMMARY:So what does "Gender Dimension in Research" actually mean? - An overview a
 cross disciplines
DESCRIPTION:Wie integriert man die Gender-Dimension in der Forschung? In der erfolgrei
 chen Workshop-Reihe "Gender dimension in research" findet am 09. Juni 2026
  die nächste Veranstaltung statt.
LOCATION:Online
CREATED:20260423T060232
LAST-MODIFIED:20260423T060719
DTSTART;VALUE=DATE:20260609T093000
DTEND;VALUE=DATE:20260609T130000
UID:sn_3841_date_0@logic-works.net
END:VEVENT
END:VCALENDAR