BEGIN:VCALENDAR
METHOD:PUBLISH
PRODID:-//LogicWorks GmbH//NONSGML Contentory//EN
VERSION:2.0
CALSCALE:GREGORIAN
X-MS-OLK-FORCEINSPECTOROPEN:TRUE
BEGIN:VEVENT
DTSTAMP:20260419T172134Z
SUMMARY:Hybrid-Veranstaltung: „RePowering the Industry“
DESCRIPTION:Was ist erforderlich\, damit die europäische Industrie ihre Elektrifizier
 ung beschleunigen kann? Was sind mögliche technologische Anwendungen? Und
  wie kann die europäische Industrie während dieses Übergangs wettbewerb
 sfähig bleiben? Dies sind einige der Fragen\, die auf der halbtägigen Hy
 bridveranstaltung „RePowering the Industry“ am 30. Mai in Uppsala\, Sc
 hweden diskutiert werden.
LOCATION:Uppsala (Schweden) und Online
CREATED:20230329T145832
LAST-MODIFIED:20230419T095312
DTSTART;VALUE=DATE:20230530T130000
DTEND;VALUE=DATE:20230530T170000
UID:sn_1698_date_0@logic-works.net
END:VEVENT
END:VCALENDAR