BEGIN:VCALENDAR
METHOD:PUBLISH
PRODID:-//LogicWorks GmbH//NONSGML Contentory//EN
VERSION:2.0
CALSCALE:GREGORIAN
X-MS-OLK-FORCEINSPECTOROPEN:TRUE
BEGIN:VEVENT
DTSTAMP:20260421T125256Z
SUMMARY:Veranstaltungsreihe „Fit für Ihren Antrag“: Teil 3 - Implementation
DESCRIPTION:Die NKS Bioökonomie und Umwelt bietet von Mitte Januar bis Ende Februar 2
 023 eine Veranstaltungsreihe zu verschiedenen Themen im Kontext der Antrag
 stellung in Cluster 6 und den Missionen an. Die meisten der acht Themen si
 nd auch für Anträge in Cluster 5 sehr relevant. Heute erhalten Sie hilfr
 eiche Tipps zum Thema Implementation.
LOCATION:Online
CREATED:20230110T124133
LAST-MODIFIED:20230110T155619
DTSTART;VALUE=DATE:20230131T100000
DTEND;VALUE=DATE:20230131T113000
UID:sn_1420_date_0@logic-works.net
END:VEVENT
END:VCALENDAR